BEGIN:VCALENDAR
VERSION:2.0
PRODID:-//HAPTICA ® live - ECPv6.15.20//NONSGML v1.0//EN
CALSCALE:GREGORIAN
METHOD:PUBLISH
X-WR-CALNAME:HAPTICA ® live
X-ORIGINAL-URL:https://haptica.live
X-WR-CALDESC:Veranstaltungen für HAPTICA ® live
REFRESH-INTERVAL;VALUE=DURATION:PT1H
X-Robots-Tag:noindex
X-PUBLISHED-TTL:PT1H
BEGIN:VTIMEZONE
TZID:Europe/Helsinki
BEGIN:DAYLIGHT
TZOFFSETFROM:+0200
TZOFFSETTO:+0300
TZNAME:EEST
DTSTART:20260329T010000
END:DAYLIGHT
BEGIN:STANDARD
TZOFFSETFROM:+0300
TZOFFSETTO:+0200
TZNAME:EET
DTSTART:20261025T010000
END:STANDARD
BEGIN:DAYLIGHT
TZOFFSETFROM:+0200
TZOFFSETTO:+0300
TZNAME:EEST
DTSTART:20270328T010000
END:DAYLIGHT
BEGIN:STANDARD
TZOFFSETFROM:+0300
TZOFFSETTO:+0200
TZNAME:EET
DTSTART:20271031T010000
END:STANDARD
BEGIN:DAYLIGHT
TZOFFSETFROM:+0200
TZOFFSETTO:+0300
TZNAME:EEST
DTSTART:20280326T010000
END:DAYLIGHT
BEGIN:STANDARD
TZOFFSETFROM:+0300
TZOFFSETTO:+0200
TZNAME:EET
DTSTART:20281029T010000
END:STANDARD
END:VTIMEZONE
BEGIN:VEVENT
DTSTART;TZID=Europe/Helsinki:20270317T080000
DTEND;TZID=Europe/Helsinki:20270317T180000
DTSTAMP:20260423T134206
CREATED:20260423T090510Z
LAST-MODIFIED:20260423T090830Z
UID:11220-1805270400-1805306400@haptica.live
SUMMARY:Haptica Live 2027
DESCRIPTION:Haptica Live 2027 \nJetzt registieren!
URL:https://haptica.live/event/haptica-live-2027/
LOCATION:World Conference Center Bonn\, Platz der Vereinten Nationen 2\, Bonn\, Nordrhein-Westfalen\, 53113
ORGANIZER;CN="WA Media GmbH":MAILTO:barth@wa-media.de
END:VEVENT
END:VCALENDAR